BEGIN:VCALENDAR
VERSION:2.0
PRODID:-//Nisga&#039;a Valley Health Authority - ECPv6.15.20//NONSGML v1.0//EN
CALSCALE:GREGORIAN
METHOD:PUBLISH
X-ORIGINAL-URL:https://nisgaahealth.bc.ca
X-WR-CALDESC:Events for Nisga&#039;a Valley Health Authority
REFRESH-INTERVAL;VALUE=DURATION:PT1H
X-Robots-Tag:noindex
X-PUBLISHED-TTL:PT1H
BEGIN:VTIMEZONE
TZID:America/Vancouver
BEGIN:DAYLIGHT
TZOFFSETFROM:-0800
TZOFFSETTO:-0700
TZNAME:PDT
DTSTART:20250309T100000
END:DAYLIGHT
BEGIN:STANDARD
TZOFFSETFROM:-0700
TZOFFSETTO:-0800
TZNAME:PST
DTSTART:20251102T090000
END:STANDARD
BEGIN:DAYLIGHT
TZOFFSETFROM:-0800
TZOFFSETTO:-0700
TZNAME:PDT
DTSTART:20260308T100000
END:DAYLIGHT
BEGIN:STANDARD
TZOFFSETFROM:-0700
TZOFFSETTO:-0800
TZNAME:PST
DTSTART:20261101T090000
END:STANDARD
BEGIN:DAYLIGHT
TZOFFSETFROM:-0800
TZOFFSETTO:-0700
TZNAME:PDT
DTSTART:20270314T100000
END:DAYLIGHT
BEGIN:STANDARD
TZOFFSETFROM:-0700
TZOFFSETTO:-0800
TZNAME:PST
DTSTART:20271107T090000
END:STANDARD
END:VTIMEZONE
BEGIN:VEVENT
DTSTART;TZID=America/Vancouver:20260715T180000
DTEND;TZID=America/Vancouver:20260715T180000
DTSTAMP:20260419T052257
CREATED:20251024T212509Z
LAST-MODIFIED:20251024T212646Z
UID:10000691-1784138400-1784138400@nisgaahealth.bc.ca
SUMMARY:Nisga’a Language Program - Laxgalts’ap
DESCRIPTION:
URL:https://nisgaahealth.bc.ca/calendar/nisgaa-language-program-laxgaltsap/2026-07-15/
LOCATION:Laxgalts’ap Health Centre
CATEGORIES:Laxgalts'ap,Traditional Wellness,Workshop
ATTACH;FMTTYPE=image/jpeg:https://nisgaahealth.bc.ca/wp-content/uploads/2025/10/8ca8a596-cced-4a36-86b8-bf958ba7b862_Sgihl-banaa-loona.png.jpeg
END:VEVENT
BEGIN:VEVENT
DTSTART;TZID=America/Vancouver:20260716T180000
DTEND;TZID=America/Vancouver:20260716T180000
DTSTAMP:20260419T052257
CREATED:20251024T212114Z
LAST-MODIFIED:20251024T212231Z
UID:10000630-1784224800-1784224800@nisgaahealth.bc.ca
SUMMARY:Nisga’a Language Program - Gingolx
DESCRIPTION:
URL:https://nisgaahealth.bc.ca/calendar/nisgaa-language-program-gingolx/2026-07-16/
LOCATION:Gingolx Health Centre
CATEGORIES:Gingolx,Traditional Wellness,Workshop
ATTACH;FMTTYPE=image/jpeg:https://nisgaahealth.bc.ca/wp-content/uploads/2025/10/8ca8a596-cced-4a36-86b8-bf958ba7b862_Sgihl-banaa-loona.png.jpeg
END:VEVENT
BEGIN:VEVENT
DTSTART;TZID=America/Vancouver:20260722T180000
DTEND;TZID=America/Vancouver:20260722T180000
DTSTAMP:20260419T052257
CREATED:20251024T212509Z
LAST-MODIFIED:20251024T212646Z
UID:10000692-1784743200-1784743200@nisgaahealth.bc.ca
SUMMARY:Nisga’a Language Program - Laxgalts’ap
DESCRIPTION:
URL:https://nisgaahealth.bc.ca/calendar/nisgaa-language-program-laxgaltsap/2026-07-22/
LOCATION:Laxgalts’ap Health Centre
CATEGORIES:Laxgalts'ap,Traditional Wellness,Workshop
ATTACH;FMTTYPE=image/jpeg:https://nisgaahealth.bc.ca/wp-content/uploads/2025/10/8ca8a596-cced-4a36-86b8-bf958ba7b862_Sgihl-banaa-loona.png.jpeg
END:VEVENT
BEGIN:VEVENT
DTSTART;TZID=America/Vancouver:20260723T180000
DTEND;TZID=America/Vancouver:20260723T180000
DTSTAMP:20260419T052258
CREATED:20251024T212114Z
LAST-MODIFIED:20251024T212231Z
UID:10000631-1784829600-1784829600@nisgaahealth.bc.ca
SUMMARY:Nisga’a Language Program - Gingolx
DESCRIPTION:
URL:https://nisgaahealth.bc.ca/calendar/nisgaa-language-program-gingolx/2026-07-23/
LOCATION:Gingolx Health Centre
CATEGORIES:Gingolx,Traditional Wellness,Workshop
ATTACH;FMTTYPE=image/jpeg:https://nisgaahealth.bc.ca/wp-content/uploads/2025/10/8ca8a596-cced-4a36-86b8-bf958ba7b862_Sgihl-banaa-loona.png.jpeg
END:VEVENT
BEGIN:VEVENT
DTSTART;TZID=America/Vancouver:20260729T180000
DTEND;TZID=America/Vancouver:20260729T180000
DTSTAMP:20260419T052258
CREATED:20251024T212509Z
LAST-MODIFIED:20251024T212646Z
UID:10000693-1785348000-1785348000@nisgaahealth.bc.ca
SUMMARY:Nisga’a Language Program - Laxgalts’ap
DESCRIPTION:
URL:https://nisgaahealth.bc.ca/calendar/nisgaa-language-program-laxgaltsap/2026-07-29/
LOCATION:Laxgalts’ap Health Centre
CATEGORIES:Laxgalts'ap,Traditional Wellness,Workshop
ATTACH;FMTTYPE=image/jpeg:https://nisgaahealth.bc.ca/wp-content/uploads/2025/10/8ca8a596-cced-4a36-86b8-bf958ba7b862_Sgihl-banaa-loona.png.jpeg
END:VEVENT
BEGIN:VEVENT
DTSTART;TZID=America/Vancouver:20260730T180000
DTEND;TZID=America/Vancouver:20260730T180000
DTSTAMP:20260419T052258
CREATED:20251024T212114Z
LAST-MODIFIED:20251024T212231Z
UID:10000632-1785434400-1785434400@nisgaahealth.bc.ca
SUMMARY:Nisga’a Language Program - Gingolx
DESCRIPTION:
URL:https://nisgaahealth.bc.ca/calendar/nisgaa-language-program-gingolx/2026-07-30/
LOCATION:Gingolx Health Centre
CATEGORIES:Gingolx,Traditional Wellness,Workshop
ATTACH;FMTTYPE=image/jpeg:https://nisgaahealth.bc.ca/wp-content/uploads/2025/10/8ca8a596-cced-4a36-86b8-bf958ba7b862_Sgihl-banaa-loona.png.jpeg
END:VEVENT
BEGIN:VEVENT
DTSTART;TZID=America/Vancouver:20260805T180000
DTEND;TZID=America/Vancouver:20260805T180000
DTSTAMP:20260419T052258
CREATED:20251024T212509Z
LAST-MODIFIED:20251024T212646Z
UID:10000694-1785952800-1785952800@nisgaahealth.bc.ca
SUMMARY:Nisga’a Language Program - Laxgalts’ap
DESCRIPTION:
URL:https://nisgaahealth.bc.ca/calendar/nisgaa-language-program-laxgaltsap/2026-08-05/
LOCATION:Laxgalts’ap Health Centre
CATEGORIES:Laxgalts'ap,Traditional Wellness,Workshop
ATTACH;FMTTYPE=image/jpeg:https://nisgaahealth.bc.ca/wp-content/uploads/2025/10/8ca8a596-cced-4a36-86b8-bf958ba7b862_Sgihl-banaa-loona.png.jpeg
END:VEVENT
BEGIN:VEVENT
DTSTART;TZID=America/Vancouver:20260806T180000
DTEND;TZID=America/Vancouver:20260806T180000
DTSTAMP:20260419T052258
CREATED:20251024T212114Z
LAST-MODIFIED:20251024T212231Z
UID:10000633-1786039200-1786039200@nisgaahealth.bc.ca
SUMMARY:Nisga’a Language Program - Gingolx
DESCRIPTION:
URL:https://nisgaahealth.bc.ca/calendar/nisgaa-language-program-gingolx/2026-08-06/
LOCATION:Gingolx Health Centre
CATEGORIES:Gingolx,Traditional Wellness,Workshop
ATTACH;FMTTYPE=image/jpeg:https://nisgaahealth.bc.ca/wp-content/uploads/2025/10/8ca8a596-cced-4a36-86b8-bf958ba7b862_Sgihl-banaa-loona.png.jpeg
END:VEVENT
BEGIN:VEVENT
DTSTART;TZID=America/Vancouver:20260812T180000
DTEND;TZID=America/Vancouver:20260812T180000
DTSTAMP:20260419T052258
CREATED:20251024T212509Z
LAST-MODIFIED:20251024T212646Z
UID:10000695-1786557600-1786557600@nisgaahealth.bc.ca
SUMMARY:Nisga’a Language Program - Laxgalts’ap
DESCRIPTION:
URL:https://nisgaahealth.bc.ca/calendar/nisgaa-language-program-laxgaltsap/2026-08-12/
LOCATION:Laxgalts’ap Health Centre
CATEGORIES:Laxgalts'ap,Traditional Wellness,Workshop
ATTACH;FMTTYPE=image/jpeg:https://nisgaahealth.bc.ca/wp-content/uploads/2025/10/8ca8a596-cced-4a36-86b8-bf958ba7b862_Sgihl-banaa-loona.png.jpeg
END:VEVENT
BEGIN:VEVENT
DTSTART;TZID=America/Vancouver:20260813T180000
DTEND;TZID=America/Vancouver:20260813T180000
DTSTAMP:20260419T052258
CREATED:20251024T212114Z
LAST-MODIFIED:20251024T212231Z
UID:10000634-1786644000-1786644000@nisgaahealth.bc.ca
SUMMARY:Nisga’a Language Program - Gingolx
DESCRIPTION:
URL:https://nisgaahealth.bc.ca/calendar/nisgaa-language-program-gingolx/2026-08-13/
LOCATION:Gingolx Health Centre
CATEGORIES:Gingolx,Traditional Wellness,Workshop
ATTACH;FMTTYPE=image/jpeg:https://nisgaahealth.bc.ca/wp-content/uploads/2025/10/8ca8a596-cced-4a36-86b8-bf958ba7b862_Sgihl-banaa-loona.png.jpeg
END:VEVENT
BEGIN:VEVENT
DTSTART;TZID=America/Vancouver:20260819T180000
DTEND;TZID=America/Vancouver:20260819T180000
DTSTAMP:20260419T052258
CREATED:20251024T212509Z
LAST-MODIFIED:20251024T212646Z
UID:10000696-1787162400-1787162400@nisgaahealth.bc.ca
SUMMARY:Nisga’a Language Program - Laxgalts’ap
DESCRIPTION:
URL:https://nisgaahealth.bc.ca/calendar/nisgaa-language-program-laxgaltsap/2026-08-19/
LOCATION:Laxgalts’ap Health Centre
CATEGORIES:Laxgalts'ap,Traditional Wellness,Workshop
ATTACH;FMTTYPE=image/jpeg:https://nisgaahealth.bc.ca/wp-content/uploads/2025/10/8ca8a596-cced-4a36-86b8-bf958ba7b862_Sgihl-banaa-loona.png.jpeg
END:VEVENT
BEGIN:VEVENT
DTSTART;TZID=America/Vancouver:20260820T180000
DTEND;TZID=America/Vancouver:20260820T180000
DTSTAMP:20260419T052258
CREATED:20251024T212114Z
LAST-MODIFIED:20251024T212231Z
UID:10000635-1787248800-1787248800@nisgaahealth.bc.ca
SUMMARY:Nisga’a Language Program - Gingolx
DESCRIPTION:
URL:https://nisgaahealth.bc.ca/calendar/nisgaa-language-program-gingolx/2026-08-20/
LOCATION:Gingolx Health Centre
CATEGORIES:Gingolx,Traditional Wellness,Workshop
ATTACH;FMTTYPE=image/jpeg:https://nisgaahealth.bc.ca/wp-content/uploads/2025/10/8ca8a596-cced-4a36-86b8-bf958ba7b862_Sgihl-banaa-loona.png.jpeg
END:VEVENT
BEGIN:VEVENT
DTSTART;TZID=America/Vancouver:20260826T180000
DTEND;TZID=America/Vancouver:20260826T180000
DTSTAMP:20260419T052258
CREATED:20251024T212509Z
LAST-MODIFIED:20251024T212646Z
UID:10000697-1787767200-1787767200@nisgaahealth.bc.ca
SUMMARY:Nisga’a Language Program - Laxgalts’ap
DESCRIPTION:
URL:https://nisgaahealth.bc.ca/calendar/nisgaa-language-program-laxgaltsap/2026-08-26/
LOCATION:Laxgalts’ap Health Centre
CATEGORIES:Laxgalts'ap,Traditional Wellness,Workshop
ATTACH;FMTTYPE=image/jpeg:https://nisgaahealth.bc.ca/wp-content/uploads/2025/10/8ca8a596-cced-4a36-86b8-bf958ba7b862_Sgihl-banaa-loona.png.jpeg
END:VEVENT
BEGIN:VEVENT
DTSTART;TZID=America/Vancouver:20260827T180000
DTEND;TZID=America/Vancouver:20260827T180000
DTSTAMP:20260419T052258
CREATED:20251024T212114Z
LAST-MODIFIED:20251024T212231Z
UID:10000636-1787853600-1787853600@nisgaahealth.bc.ca
SUMMARY:Nisga’a Language Program - Gingolx
DESCRIPTION:
URL:https://nisgaahealth.bc.ca/calendar/nisgaa-language-program-gingolx/2026-08-27/
LOCATION:Gingolx Health Centre
CATEGORIES:Gingolx,Traditional Wellness,Workshop
ATTACH;FMTTYPE=image/jpeg:https://nisgaahealth.bc.ca/wp-content/uploads/2025/10/8ca8a596-cced-4a36-86b8-bf958ba7b862_Sgihl-banaa-loona.png.jpeg
END:VEVENT
BEGIN:VEVENT
DTSTART;TZID=America/Vancouver:20260902T180000
DTEND;TZID=America/Vancouver:20260902T180000
DTSTAMP:20260419T052258
CREATED:20251024T212509Z
LAST-MODIFIED:20251024T212646Z
UID:10000698-1788372000-1788372000@nisgaahealth.bc.ca
SUMMARY:Nisga’a Language Program - Laxgalts’ap
DESCRIPTION:
URL:https://nisgaahealth.bc.ca/calendar/nisgaa-language-program-laxgaltsap/2026-09-02/
LOCATION:Laxgalts’ap Health Centre
CATEGORIES:Laxgalts'ap,Traditional Wellness,Workshop
ATTACH;FMTTYPE=image/jpeg:https://nisgaahealth.bc.ca/wp-content/uploads/2025/10/8ca8a596-cced-4a36-86b8-bf958ba7b862_Sgihl-banaa-loona.png.jpeg
END:VEVENT
BEGIN:VEVENT
DTSTART;TZID=America/Vancouver:20260903T180000
DTEND;TZID=America/Vancouver:20260903T180000
DTSTAMP:20260419T052258
CREATED:20251024T212114Z
LAST-MODIFIED:20251024T212231Z
UID:10000637-1788458400-1788458400@nisgaahealth.bc.ca
SUMMARY:Nisga’a Language Program - Gingolx
DESCRIPTION:
URL:https://nisgaahealth.bc.ca/calendar/nisgaa-language-program-gingolx/2026-09-03/
LOCATION:Gingolx Health Centre
CATEGORIES:Gingolx,Traditional Wellness,Workshop
ATTACH;FMTTYPE=image/jpeg:https://nisgaahealth.bc.ca/wp-content/uploads/2025/10/8ca8a596-cced-4a36-86b8-bf958ba7b862_Sgihl-banaa-loona.png.jpeg
END:VEVENT
BEGIN:VEVENT
DTSTART;TZID=America/Vancouver:20260909T180000
DTEND;TZID=America/Vancouver:20260909T180000
DTSTAMP:20260419T052258
CREATED:20251024T212509Z
LAST-MODIFIED:20251024T212646Z
UID:10000699-1788976800-1788976800@nisgaahealth.bc.ca
SUMMARY:Nisga’a Language Program - Laxgalts’ap
DESCRIPTION:
URL:https://nisgaahealth.bc.ca/calendar/nisgaa-language-program-laxgaltsap/2026-09-09/
LOCATION:Laxgalts’ap Health Centre
CATEGORIES:Laxgalts'ap,Traditional Wellness,Workshop
ATTACH;FMTTYPE=image/jpeg:https://nisgaahealth.bc.ca/wp-content/uploads/2025/10/8ca8a596-cced-4a36-86b8-bf958ba7b862_Sgihl-banaa-loona.png.jpeg
END:VEVENT
BEGIN:VEVENT
DTSTART;TZID=America/Vancouver:20260910T180000
DTEND;TZID=America/Vancouver:20260910T180000
DTSTAMP:20260419T052258
CREATED:20251024T212114Z
LAST-MODIFIED:20251024T212231Z
UID:10000638-1789063200-1789063200@nisgaahealth.bc.ca
SUMMARY:Nisga’a Language Program - Gingolx
DESCRIPTION:
URL:https://nisgaahealth.bc.ca/calendar/nisgaa-language-program-gingolx/2026-09-10/
LOCATION:Gingolx Health Centre
CATEGORIES:Gingolx,Traditional Wellness,Workshop
ATTACH;FMTTYPE=image/jpeg:https://nisgaahealth.bc.ca/wp-content/uploads/2025/10/8ca8a596-cced-4a36-86b8-bf958ba7b862_Sgihl-banaa-loona.png.jpeg
END:VEVENT
BEGIN:VEVENT
DTSTART;TZID=America/Vancouver:20260916T180000
DTEND;TZID=America/Vancouver:20260916T180000
DTSTAMP:20260419T052258
CREATED:20251024T212509Z
LAST-MODIFIED:20251024T212646Z
UID:10000700-1789581600-1789581600@nisgaahealth.bc.ca
SUMMARY:Nisga’a Language Program - Laxgalts’ap
DESCRIPTION:
URL:https://nisgaahealth.bc.ca/calendar/nisgaa-language-program-laxgaltsap/2026-09-16/
LOCATION:Laxgalts’ap Health Centre
CATEGORIES:Laxgalts'ap,Traditional Wellness,Workshop
ATTACH;FMTTYPE=image/jpeg:https://nisgaahealth.bc.ca/wp-content/uploads/2025/10/8ca8a596-cced-4a36-86b8-bf958ba7b862_Sgihl-banaa-loona.png.jpeg
END:VEVENT
BEGIN:VEVENT
DTSTART;TZID=America/Vancouver:20260917T180000
DTEND;TZID=America/Vancouver:20260917T180000
DTSTAMP:20260419T052258
CREATED:20251024T212114Z
LAST-MODIFIED:20251024T212231Z
UID:10000639-1789668000-1789668000@nisgaahealth.bc.ca
SUMMARY:Nisga’a Language Program - Gingolx
DESCRIPTION:
URL:https://nisgaahealth.bc.ca/calendar/nisgaa-language-program-gingolx/2026-09-17/
LOCATION:Gingolx Health Centre
CATEGORIES:Gingolx,Traditional Wellness,Workshop
ATTACH;FMTTYPE=image/jpeg:https://nisgaahealth.bc.ca/wp-content/uploads/2025/10/8ca8a596-cced-4a36-86b8-bf958ba7b862_Sgihl-banaa-loona.png.jpeg
END:VEVENT
BEGIN:VEVENT
DTSTART;TZID=America/Vancouver:20260923T180000
DTEND;TZID=America/Vancouver:20260923T180000
DTSTAMP:20260419T052258
CREATED:20251024T212509Z
LAST-MODIFIED:20251024T212646Z
UID:10000701-1790186400-1790186400@nisgaahealth.bc.ca
SUMMARY:Nisga’a Language Program - Laxgalts’ap
DESCRIPTION:
URL:https://nisgaahealth.bc.ca/calendar/nisgaa-language-program-laxgaltsap/2026-09-23/
LOCATION:Laxgalts’ap Health Centre
CATEGORIES:Laxgalts'ap,Traditional Wellness,Workshop
ATTACH;FMTTYPE=image/jpeg:https://nisgaahealth.bc.ca/wp-content/uploads/2025/10/8ca8a596-cced-4a36-86b8-bf958ba7b862_Sgihl-banaa-loona.png.jpeg
END:VEVENT
BEGIN:VEVENT
DTSTART;TZID=America/Vancouver:20260924T180000
DTEND;TZID=America/Vancouver:20260924T180000
DTSTAMP:20260419T052258
CREATED:20251024T212114Z
LAST-MODIFIED:20251024T212231Z
UID:10000640-1790272800-1790272800@nisgaahealth.bc.ca
SUMMARY:Nisga’a Language Program - Gingolx
DESCRIPTION:
URL:https://nisgaahealth.bc.ca/calendar/nisgaa-language-program-gingolx/2026-09-24/
LOCATION:Gingolx Health Centre
CATEGORIES:Gingolx,Traditional Wellness,Workshop
ATTACH;FMTTYPE=image/jpeg:https://nisgaahealth.bc.ca/wp-content/uploads/2025/10/8ca8a596-cced-4a36-86b8-bf958ba7b862_Sgihl-banaa-loona.png.jpeg
END:VEVENT
BEGIN:VEVENT
DTSTART;TZID=America/Vancouver:20260930T180000
DTEND;TZID=America/Vancouver:20260930T180000
DTSTAMP:20260419T052258
CREATED:20251024T212509Z
LAST-MODIFIED:20251024T212646Z
UID:10000702-1790791200-1790791200@nisgaahealth.bc.ca
SUMMARY:Nisga’a Language Program - Laxgalts’ap
DESCRIPTION:
URL:https://nisgaahealth.bc.ca/calendar/nisgaa-language-program-laxgaltsap/2026-09-30/
LOCATION:Laxgalts’ap Health Centre
CATEGORIES:Laxgalts'ap,Traditional Wellness,Workshop
ATTACH;FMTTYPE=image/jpeg:https://nisgaahealth.bc.ca/wp-content/uploads/2025/10/8ca8a596-cced-4a36-86b8-bf958ba7b862_Sgihl-banaa-loona.png.jpeg
END:VEVENT
BEGIN:VEVENT
DTSTART;TZID=America/Vancouver:20261001T180000
DTEND;TZID=America/Vancouver:20261001T180000
DTSTAMP:20260419T052258
CREATED:20251024T212114Z
LAST-MODIFIED:20251024T212231Z
UID:10000641-1790877600-1790877600@nisgaahealth.bc.ca
SUMMARY:Nisga’a Language Program - Gingolx
DESCRIPTION:
URL:https://nisgaahealth.bc.ca/calendar/nisgaa-language-program-gingolx/2026-10-01/
LOCATION:Gingolx Health Centre
CATEGORIES:Gingolx,Traditional Wellness,Workshop
ATTACH;FMTTYPE=image/jpeg:https://nisgaahealth.bc.ca/wp-content/uploads/2025/10/8ca8a596-cced-4a36-86b8-bf958ba7b862_Sgihl-banaa-loona.png.jpeg
END:VEVENT
BEGIN:VEVENT
DTSTART;TZID=America/Vancouver:20261007T180000
DTEND;TZID=America/Vancouver:20261007T180000
DTSTAMP:20260419T052258
CREATED:20251024T212509Z
LAST-MODIFIED:20251024T212646Z
UID:10000703-1791396000-1791396000@nisgaahealth.bc.ca
SUMMARY:Nisga’a Language Program - Laxgalts’ap
DESCRIPTION:
URL:https://nisgaahealth.bc.ca/calendar/nisgaa-language-program-laxgaltsap/2026-10-07/
LOCATION:Laxgalts’ap Health Centre
CATEGORIES:Laxgalts'ap,Traditional Wellness,Workshop
ATTACH;FMTTYPE=image/jpeg:https://nisgaahealth.bc.ca/wp-content/uploads/2025/10/8ca8a596-cced-4a36-86b8-bf958ba7b862_Sgihl-banaa-loona.png.jpeg
END:VEVENT
BEGIN:VEVENT
DTSTART;TZID=America/Vancouver:20261008T180000
DTEND;TZID=America/Vancouver:20261008T180000
DTSTAMP:20260419T052258
CREATED:20251024T212114Z
LAST-MODIFIED:20251024T212231Z
UID:10000642-1791482400-1791482400@nisgaahealth.bc.ca
SUMMARY:Nisga’a Language Program - Gingolx
DESCRIPTION:
URL:https://nisgaahealth.bc.ca/calendar/nisgaa-language-program-gingolx/2026-10-08/
LOCATION:Gingolx Health Centre
CATEGORIES:Gingolx,Traditional Wellness,Workshop
ATTACH;FMTTYPE=image/jpeg:https://nisgaahealth.bc.ca/wp-content/uploads/2025/10/8ca8a596-cced-4a36-86b8-bf958ba7b862_Sgihl-banaa-loona.png.jpeg
END:VEVENT
BEGIN:VEVENT
DTSTART;TZID=America/Vancouver:20261014T180000
DTEND;TZID=America/Vancouver:20261014T180000
DTSTAMP:20260419T052258
CREATED:20251024T212509Z
LAST-MODIFIED:20251024T212646Z
UID:10000704-1792000800-1792000800@nisgaahealth.bc.ca
SUMMARY:Nisga’a Language Program - Laxgalts’ap
DESCRIPTION:
URL:https://nisgaahealth.bc.ca/calendar/nisgaa-language-program-laxgaltsap/2026-10-14/
LOCATION:Laxgalts’ap Health Centre
CATEGORIES:Laxgalts'ap,Traditional Wellness,Workshop
ATTACH;FMTTYPE=image/jpeg:https://nisgaahealth.bc.ca/wp-content/uploads/2025/10/8ca8a596-cced-4a36-86b8-bf958ba7b862_Sgihl-banaa-loona.png.jpeg
END:VEVENT
BEGIN:VEVENT
DTSTART;TZID=America/Vancouver:20261015T180000
DTEND;TZID=America/Vancouver:20261015T180000
DTSTAMP:20260419T052258
CREATED:20251024T212114Z
LAST-MODIFIED:20251024T212231Z
UID:10000643-1792087200-1792087200@nisgaahealth.bc.ca
SUMMARY:Nisga’a Language Program - Gingolx
DESCRIPTION:
URL:https://nisgaahealth.bc.ca/calendar/nisgaa-language-program-gingolx/2026-10-15/
LOCATION:Gingolx Health Centre
CATEGORIES:Gingolx,Traditional Wellness,Workshop
ATTACH;FMTTYPE=image/jpeg:https://nisgaahealth.bc.ca/wp-content/uploads/2025/10/8ca8a596-cced-4a36-86b8-bf958ba7b862_Sgihl-banaa-loona.png.jpeg
END:VEVENT
BEGIN:VEVENT
DTSTART;TZID=America/Vancouver:20261021T180000
DTEND;TZID=America/Vancouver:20261021T180000
DTSTAMP:20260419T052258
CREATED:20251024T212509Z
LAST-MODIFIED:20251024T212646Z
UID:10000705-1792605600-1792605600@nisgaahealth.bc.ca
SUMMARY:Nisga’a Language Program - Laxgalts’ap
DESCRIPTION:
URL:https://nisgaahealth.bc.ca/calendar/nisgaa-language-program-laxgaltsap/2026-10-21/
LOCATION:Laxgalts’ap Health Centre
CATEGORIES:Laxgalts'ap,Traditional Wellness,Workshop
ATTACH;FMTTYPE=image/jpeg:https://nisgaahealth.bc.ca/wp-content/uploads/2025/10/8ca8a596-cced-4a36-86b8-bf958ba7b862_Sgihl-banaa-loona.png.jpeg
END:VEVENT
BEGIN:VEVENT
DTSTART;TZID=America/Vancouver:20261022T180000
DTEND;TZID=America/Vancouver:20261022T180000
DTSTAMP:20260419T052258
CREATED:20251024T212114Z
LAST-MODIFIED:20251024T212231Z
UID:10000644-1792692000-1792692000@nisgaahealth.bc.ca
SUMMARY:Nisga’a Language Program - Gingolx
DESCRIPTION:
URL:https://nisgaahealth.bc.ca/calendar/nisgaa-language-program-gingolx/2026-10-22/
LOCATION:Gingolx Health Centre
CATEGORIES:Gingolx,Traditional Wellness,Workshop
ATTACH;FMTTYPE=image/jpeg:https://nisgaahealth.bc.ca/wp-content/uploads/2025/10/8ca8a596-cced-4a36-86b8-bf958ba7b862_Sgihl-banaa-loona.png.jpeg
END:VEVENT
END:VCALENDAR