BEGIN:VCALENDAR
VERSION:2.0
PRODID:-//Nisga&#039;a Valley Health Authority - ECPv6.15.20//NONSGML v1.0//EN
CALSCALE:GREGORIAN
METHOD:PUBLISH
X-WR-CALNAME:Nisga&#039;a Valley Health Authority
X-ORIGINAL-URL:https://nisgaahealth.bc.ca
X-WR-CALDESC:Events for Nisga&#039;a Valley Health Authority
REFRESH-INTERVAL;VALUE=DURATION:PT1H
X-Robots-Tag:noindex
X-PUBLISHED-TTL:PT1H
BEGIN:VTIMEZONE
TZID:America/Vancouver
BEGIN:DAYLIGHT
TZOFFSETFROM:-0800
TZOFFSETTO:-0700
TZNAME:PDT
DTSTART:20250309T100000
END:DAYLIGHT
BEGIN:STANDARD
TZOFFSETFROM:-0700
TZOFFSETTO:-0800
TZNAME:PST
DTSTART:20251102T090000
END:STANDARD
BEGIN:DAYLIGHT
TZOFFSETFROM:-0800
TZOFFSETTO:-0700
TZNAME:PDT
DTSTART:20260308T100000
END:DAYLIGHT
BEGIN:STANDARD
TZOFFSETFROM:-0700
TZOFFSETTO:-0800
TZNAME:PST
DTSTART:20261101T090000
END:STANDARD
BEGIN:DAYLIGHT
TZOFFSETFROM:-0800
TZOFFSETTO:-0700
TZNAME:PDT
DTSTART:20270314T100000
END:DAYLIGHT
BEGIN:STANDARD
TZOFFSETFROM:-0700
TZOFFSETTO:-0800
TZNAME:PST
DTSTART:20271107T090000
END:STANDARD
END:VTIMEZONE
BEGIN:VEVENT
DTSTART;TZID=America/Vancouver:20260419T160000
DTEND;TZID=America/Vancouver:20260419T170000
DTSTAMP:20260424T190156
CREATED:20260330T202657Z
LAST-MODIFIED:20260330T204044Z
UID:10002482-1776614400-1776618000@nisgaahealth.bc.ca
SUMMARY:Men's Wellness Hot Springs - Laxgalts'ap
DESCRIPTION:
URL:https://nisgaahealth.bc.ca/calendar/mens-wellness-hot-springs-laxgaltsap/2026-04-19/
CATEGORIES:Laxgalts'ap,Mental Health
ATTACH;FMTTYPE=image/png:https://nisgaahealth.bc.ca/wp-content/uploads/2026/03/Grey-and-Orange-Modern-Clean-Event-Calendar-Your-Story-2-scaled.png
END:VEVENT
BEGIN:VEVENT
DTSTART;TZID=America/Vancouver:20260421T190000
DTEND;TZID=America/Vancouver:20260421T200000
DTSTAMP:20260424T190156
CREATED:20260330T203458Z
LAST-MODIFIED:20260330T203458Z
UID:10002487-1776798000-1776801600@nisgaahealth.bc.ca
SUMMARY:Waks Club - Laxgalts'ap
DESCRIPTION:
URL:https://nisgaahealth.bc.ca/calendar/waks-club-laxgaltsap/2026-04-21/
LOCATION:Laxgalts’ap Health Centre
CATEGORIES:Laxgalts'ap,Mental Health
ATTACH;FMTTYPE=image/png:https://nisgaahealth.bc.ca/wp-content/uploads/2026/03/Grey-and-Orange-Modern-Clean-Event-Calendar-Your-Story-2-scaled.png
END:VEVENT
BEGIN:VEVENT
DTSTART;TZID=America/Vancouver:20260422T180000
DTEND;TZID=America/Vancouver:20260422T180000
DTSTAMP:20260424T190156
CREATED:20251024T212509Z
LAST-MODIFIED:20251024T212646Z
UID:10000679-1776880800-1776880800@nisgaahealth.bc.ca
SUMMARY:Nisga’a Language Program - Laxgalts’ap
DESCRIPTION:
URL:https://nisgaahealth.bc.ca/calendar/nisgaa-language-program-laxgaltsap/2026-04-22/
LOCATION:Laxgalts’ap Health Centre
CATEGORIES:Laxgalts'ap,Traditional Wellness,Workshop
ATTACH;FMTTYPE=image/jpeg:https://nisgaahealth.bc.ca/wp-content/uploads/2025/10/8ca8a596-cced-4a36-86b8-bf958ba7b862_Sgihl-banaa-loona.png.jpeg
END:VEVENT
BEGIN:VEVENT
DTSTART;TZID=America/Vancouver:20260422T180000
DTEND;TZID=America/Vancouver:20260422T193000
DTSTAMP:20260424T190156
CREATED:20260330T203726Z
LAST-MODIFIED:20260330T203726Z
UID:10002492-1776880800-1776886200@nisgaahealth.bc.ca
SUMMARY:Women's Wellness - Laxgalts'ap or Zoom
DESCRIPTION:
URL:https://nisgaahealth.bc.ca/calendar/womens-wellness-laxgaltsap-or-zoom/2026-04-22/
LOCATION:Laxgalts’ap Health Centre
CATEGORIES:Laxgalts'ap,Mental Health
ATTACH;FMTTYPE=image/png:https://nisgaahealth.bc.ca/wp-content/uploads/2026/03/Grey-and-Orange-Modern-Clean-Event-Calendar-Your-Story-2-scaled.png
END:VEVENT
BEGIN:VEVENT
DTSTART;TZID=America/Vancouver:20260426T160000
DTEND;TZID=America/Vancouver:20260426T170000
DTSTAMP:20260424T190156
CREATED:20260330T202657Z
LAST-MODIFIED:20260330T204044Z
UID:10002483-1777219200-1777222800@nisgaahealth.bc.ca
SUMMARY:Men's Wellness Hot Springs - Laxgalts'ap
DESCRIPTION:
URL:https://nisgaahealth.bc.ca/calendar/mens-wellness-hot-springs-laxgaltsap/2026-04-26/
CATEGORIES:Laxgalts'ap,Mental Health
ATTACH;FMTTYPE=image/png:https://nisgaahealth.bc.ca/wp-content/uploads/2026/03/Grey-and-Orange-Modern-Clean-Event-Calendar-Your-Story-2-scaled.png
END:VEVENT
BEGIN:VEVENT
DTSTART;TZID=America/Vancouver:20260428T090000
DTEND;TZID=America/Vancouver:20260428T160000
DTSTAMP:20260424T190157
CREATED:20260401T155034Z
LAST-MODIFIED:20260409T172633Z
UID:10002502-1777366800-1777392000@nisgaahealth.bc.ca
SUMMARY:Mental Health Community Engagement - Laxgalts’ap\, Cafeteria at Recreation Centre
DESCRIPTION:
URL:https://nisgaahealth.bc.ca/calendar/mental-health-community-engagement-laxgaltsap-location-tbd/
CATEGORIES:Laxgalts'ap,Mental Health
ATTACH;FMTTYPE=image/png:https://nisgaahealth.bc.ca/wp-content/uploads/2026/04/Project.png
END:VEVENT
BEGIN:VEVENT
DTSTART;TZID=America/Vancouver:20260428T190000
DTEND;TZID=America/Vancouver:20260428T200000
DTSTAMP:20260424T190157
CREATED:20260330T203458Z
LAST-MODIFIED:20260330T203458Z
UID:10002488-1777402800-1777406400@nisgaahealth.bc.ca
SUMMARY:Waks Club - Laxgalts'ap
DESCRIPTION:
URL:https://nisgaahealth.bc.ca/calendar/waks-club-laxgaltsap/2026-04-28/
LOCATION:Laxgalts’ap Health Centre
CATEGORIES:Laxgalts'ap,Mental Health
ATTACH;FMTTYPE=image/png:https://nisgaahealth.bc.ca/wp-content/uploads/2026/03/Grey-and-Orange-Modern-Clean-Event-Calendar-Your-Story-2-scaled.png
END:VEVENT
BEGIN:VEVENT
DTSTART;TZID=America/Vancouver:20260429T180000
DTEND;TZID=America/Vancouver:20260429T180000
DTSTAMP:20260424T190157
CREATED:20251024T212509Z
LAST-MODIFIED:20251024T212646Z
UID:10000680-1777485600-1777485600@nisgaahealth.bc.ca
SUMMARY:Nisga’a Language Program - Laxgalts’ap
DESCRIPTION:
URL:https://nisgaahealth.bc.ca/calendar/nisgaa-language-program-laxgaltsap/2026-04-29/
LOCATION:Laxgalts’ap Health Centre
CATEGORIES:Laxgalts'ap,Traditional Wellness,Workshop
ATTACH;FMTTYPE=image/jpeg:https://nisgaahealth.bc.ca/wp-content/uploads/2025/10/8ca8a596-cced-4a36-86b8-bf958ba7b862_Sgihl-banaa-loona.png.jpeg
END:VEVENT
BEGIN:VEVENT
DTSTART;TZID=America/Vancouver:20260429T180000
DTEND;TZID=America/Vancouver:20260429T193000
DTSTAMP:20260424T190157
CREATED:20260330T203726Z
LAST-MODIFIED:20260330T203726Z
UID:10002493-1777485600-1777491000@nisgaahealth.bc.ca
SUMMARY:Women's Wellness - Laxgalts'ap or Zoom
DESCRIPTION:
URL:https://nisgaahealth.bc.ca/calendar/womens-wellness-laxgaltsap-or-zoom/2026-04-29/
LOCATION:Laxgalts’ap Health Centre
CATEGORIES:Laxgalts'ap,Mental Health
ATTACH;FMTTYPE=image/png:https://nisgaahealth.bc.ca/wp-content/uploads/2026/03/Grey-and-Orange-Modern-Clean-Event-Calendar-Your-Story-2-scaled.png
END:VEVENT
BEGIN:VEVENT
DTSTART;TZID=America/Vancouver:20260506T180000
DTEND;TZID=America/Vancouver:20260506T180000
DTSTAMP:20260424T190157
CREATED:20251024T212509Z
LAST-MODIFIED:20251024T212646Z
UID:10000681-1778090400-1778090400@nisgaahealth.bc.ca
SUMMARY:Nisga’a Language Program - Laxgalts’ap
DESCRIPTION:
URL:https://nisgaahealth.bc.ca/calendar/nisgaa-language-program-laxgaltsap/2026-05-06/
LOCATION:Laxgalts’ap Health Centre
CATEGORIES:Laxgalts'ap,Traditional Wellness,Workshop
ATTACH;FMTTYPE=image/jpeg:https://nisgaahealth.bc.ca/wp-content/uploads/2025/10/8ca8a596-cced-4a36-86b8-bf958ba7b862_Sgihl-banaa-loona.png.jpeg
END:VEVENT
BEGIN:VEVENT
DTSTART;TZID=America/Vancouver:20260513T180000
DTEND;TZID=America/Vancouver:20260513T180000
DTSTAMP:20260424T190157
CREATED:20251024T212509Z
LAST-MODIFIED:20251024T212646Z
UID:10000682-1778695200-1778695200@nisgaahealth.bc.ca
SUMMARY:Nisga’a Language Program - Laxgalts’ap
DESCRIPTION:
URL:https://nisgaahealth.bc.ca/calendar/nisgaa-language-program-laxgaltsap/2026-05-13/
LOCATION:Laxgalts’ap Health Centre
CATEGORIES:Laxgalts'ap,Traditional Wellness,Workshop
ATTACH;FMTTYPE=image/jpeg:https://nisgaahealth.bc.ca/wp-content/uploads/2025/10/8ca8a596-cced-4a36-86b8-bf958ba7b862_Sgihl-banaa-loona.png.jpeg
END:VEVENT
BEGIN:VEVENT
DTSTART;TZID=America/Vancouver:20260520T180000
DTEND;TZID=America/Vancouver:20260520T180000
DTSTAMP:20260424T190157
CREATED:20251024T212509Z
LAST-MODIFIED:20251024T212646Z
UID:10000683-1779300000-1779300000@nisgaahealth.bc.ca
SUMMARY:Nisga’a Language Program - Laxgalts’ap
DESCRIPTION:
URL:https://nisgaahealth.bc.ca/calendar/nisgaa-language-program-laxgaltsap/2026-05-20/
LOCATION:Laxgalts’ap Health Centre
CATEGORIES:Laxgalts'ap,Traditional Wellness,Workshop
ATTACH;FMTTYPE=image/jpeg:https://nisgaahealth.bc.ca/wp-content/uploads/2025/10/8ca8a596-cced-4a36-86b8-bf958ba7b862_Sgihl-banaa-loona.png.jpeg
END:VEVENT
BEGIN:VEVENT
DTSTART;TZID=America/Vancouver:20260527T180000
DTEND;TZID=America/Vancouver:20260527T180000
DTSTAMP:20260424T190157
CREATED:20251024T212509Z
LAST-MODIFIED:20251024T212646Z
UID:10000684-1779904800-1779904800@nisgaahealth.bc.ca
SUMMARY:Nisga’a Language Program - Laxgalts’ap
DESCRIPTION:
URL:https://nisgaahealth.bc.ca/calendar/nisgaa-language-program-laxgaltsap/2026-05-27/
LOCATION:Laxgalts’ap Health Centre
CATEGORIES:Laxgalts'ap,Traditional Wellness,Workshop
ATTACH;FMTTYPE=image/jpeg:https://nisgaahealth.bc.ca/wp-content/uploads/2025/10/8ca8a596-cced-4a36-86b8-bf958ba7b862_Sgihl-banaa-loona.png.jpeg
END:VEVENT
BEGIN:VEVENT
DTSTART;TZID=America/Vancouver:20260603T180000
DTEND;TZID=America/Vancouver:20260603T180000
DTSTAMP:20260424T190157
CREATED:20251024T212509Z
LAST-MODIFIED:20251024T212646Z
UID:10000685-1780509600-1780509600@nisgaahealth.bc.ca
SUMMARY:Nisga’a Language Program - Laxgalts’ap
DESCRIPTION:
URL:https://nisgaahealth.bc.ca/calendar/nisgaa-language-program-laxgaltsap/2026-06-03/
LOCATION:Laxgalts’ap Health Centre
CATEGORIES:Laxgalts'ap,Traditional Wellness,Workshop
ATTACH;FMTTYPE=image/jpeg:https://nisgaahealth.bc.ca/wp-content/uploads/2025/10/8ca8a596-cced-4a36-86b8-bf958ba7b862_Sgihl-banaa-loona.png.jpeg
END:VEVENT
BEGIN:VEVENT
DTSTART;TZID=America/Vancouver:20260610T180000
DTEND;TZID=America/Vancouver:20260610T180000
DTSTAMP:20260424T190157
CREATED:20251024T212509Z
LAST-MODIFIED:20251024T212646Z
UID:10000686-1781114400-1781114400@nisgaahealth.bc.ca
SUMMARY:Nisga’a Language Program - Laxgalts’ap
DESCRIPTION:
URL:https://nisgaahealth.bc.ca/calendar/nisgaa-language-program-laxgaltsap/2026-06-10/
LOCATION:Laxgalts’ap Health Centre
CATEGORIES:Laxgalts'ap,Traditional Wellness,Workshop
ATTACH;FMTTYPE=image/jpeg:https://nisgaahealth.bc.ca/wp-content/uploads/2025/10/8ca8a596-cced-4a36-86b8-bf958ba7b862_Sgihl-banaa-loona.png.jpeg
END:VEVENT
BEGIN:VEVENT
DTSTART;TZID=America/Vancouver:20260617T180000
DTEND;TZID=America/Vancouver:20260617T180000
DTSTAMP:20260424T190157
CREATED:20251024T212509Z
LAST-MODIFIED:20251024T212646Z
UID:10000687-1781719200-1781719200@nisgaahealth.bc.ca
SUMMARY:Nisga’a Language Program - Laxgalts’ap
DESCRIPTION:
URL:https://nisgaahealth.bc.ca/calendar/nisgaa-language-program-laxgaltsap/2026-06-17/
LOCATION:Laxgalts’ap Health Centre
CATEGORIES:Laxgalts'ap,Traditional Wellness,Workshop
ATTACH;FMTTYPE=image/jpeg:https://nisgaahealth.bc.ca/wp-content/uploads/2025/10/8ca8a596-cced-4a36-86b8-bf958ba7b862_Sgihl-banaa-loona.png.jpeg
END:VEVENT
BEGIN:VEVENT
DTSTART;TZID=America/Vancouver:20260624T180000
DTEND;TZID=America/Vancouver:20260624T180000
DTSTAMP:20260424T190157
CREATED:20251024T212509Z
LAST-MODIFIED:20251024T212646Z
UID:10000688-1782324000-1782324000@nisgaahealth.bc.ca
SUMMARY:Nisga’a Language Program - Laxgalts’ap
DESCRIPTION:
URL:https://nisgaahealth.bc.ca/calendar/nisgaa-language-program-laxgaltsap/2026-06-24/
LOCATION:Laxgalts’ap Health Centre
CATEGORIES:Laxgalts'ap,Traditional Wellness,Workshop
ATTACH;FMTTYPE=image/jpeg:https://nisgaahealth.bc.ca/wp-content/uploads/2025/10/8ca8a596-cced-4a36-86b8-bf958ba7b862_Sgihl-banaa-loona.png.jpeg
END:VEVENT
BEGIN:VEVENT
DTSTART;TZID=America/Vancouver:20260701T180000
DTEND;TZID=America/Vancouver:20260701T180000
DTSTAMP:20260424T190157
CREATED:20251024T212509Z
LAST-MODIFIED:20251024T212646Z
UID:10000689-1782928800-1782928800@nisgaahealth.bc.ca
SUMMARY:Nisga’a Language Program - Laxgalts’ap
DESCRIPTION:
URL:https://nisgaahealth.bc.ca/calendar/nisgaa-language-program-laxgaltsap/2026-07-01/
LOCATION:Laxgalts’ap Health Centre
CATEGORIES:Laxgalts'ap,Traditional Wellness,Workshop
ATTACH;FMTTYPE=image/jpeg:https://nisgaahealth.bc.ca/wp-content/uploads/2025/10/8ca8a596-cced-4a36-86b8-bf958ba7b862_Sgihl-banaa-loona.png.jpeg
END:VEVENT
BEGIN:VEVENT
DTSTART;TZID=America/Vancouver:20260708T180000
DTEND;TZID=America/Vancouver:20260708T180000
DTSTAMP:20260424T190157
CREATED:20251024T212509Z
LAST-MODIFIED:20251024T212646Z
UID:10000690-1783533600-1783533600@nisgaahealth.bc.ca
SUMMARY:Nisga’a Language Program - Laxgalts’ap
DESCRIPTION:
URL:https://nisgaahealth.bc.ca/calendar/nisgaa-language-program-laxgaltsap/2026-07-08/
LOCATION:Laxgalts’ap Health Centre
CATEGORIES:Laxgalts'ap,Traditional Wellness,Workshop
ATTACH;FMTTYPE=image/jpeg:https://nisgaahealth.bc.ca/wp-content/uploads/2025/10/8ca8a596-cced-4a36-86b8-bf958ba7b862_Sgihl-banaa-loona.png.jpeg
END:VEVENT
BEGIN:VEVENT
DTSTART;TZID=America/Vancouver:20260715T180000
DTEND;TZID=America/Vancouver:20260715T180000
DTSTAMP:20260424T190157
CREATED:20251024T212509Z
LAST-MODIFIED:20251024T212646Z
UID:10000691-1784138400-1784138400@nisgaahealth.bc.ca
SUMMARY:Nisga’a Language Program - Laxgalts’ap
DESCRIPTION:
URL:https://nisgaahealth.bc.ca/calendar/nisgaa-language-program-laxgaltsap/2026-07-15/
LOCATION:Laxgalts’ap Health Centre
CATEGORIES:Laxgalts'ap,Traditional Wellness,Workshop
ATTACH;FMTTYPE=image/jpeg:https://nisgaahealth.bc.ca/wp-content/uploads/2025/10/8ca8a596-cced-4a36-86b8-bf958ba7b862_Sgihl-banaa-loona.png.jpeg
END:VEVENT
BEGIN:VEVENT
DTSTART;TZID=America/Vancouver:20260722T180000
DTEND;TZID=America/Vancouver:20260722T180000
DTSTAMP:20260424T190157
CREATED:20251024T212509Z
LAST-MODIFIED:20251024T212646Z
UID:10000692-1784743200-1784743200@nisgaahealth.bc.ca
SUMMARY:Nisga’a Language Program - Laxgalts’ap
DESCRIPTION:
URL:https://nisgaahealth.bc.ca/calendar/nisgaa-language-program-laxgaltsap/2026-07-22/
LOCATION:Laxgalts’ap Health Centre
CATEGORIES:Laxgalts'ap,Traditional Wellness,Workshop
ATTACH;FMTTYPE=image/jpeg:https://nisgaahealth.bc.ca/wp-content/uploads/2025/10/8ca8a596-cced-4a36-86b8-bf958ba7b862_Sgihl-banaa-loona.png.jpeg
END:VEVENT
BEGIN:VEVENT
DTSTART;TZID=America/Vancouver:20260729T180000
DTEND;TZID=America/Vancouver:20260729T180000
DTSTAMP:20260424T190157
CREATED:20251024T212509Z
LAST-MODIFIED:20251024T212646Z
UID:10000693-1785348000-1785348000@nisgaahealth.bc.ca
SUMMARY:Nisga’a Language Program - Laxgalts’ap
DESCRIPTION:
URL:https://nisgaahealth.bc.ca/calendar/nisgaa-language-program-laxgaltsap/2026-07-29/
LOCATION:Laxgalts’ap Health Centre
CATEGORIES:Laxgalts'ap,Traditional Wellness,Workshop
ATTACH;FMTTYPE=image/jpeg:https://nisgaahealth.bc.ca/wp-content/uploads/2025/10/8ca8a596-cced-4a36-86b8-bf958ba7b862_Sgihl-banaa-loona.png.jpeg
END:VEVENT
BEGIN:VEVENT
DTSTART;TZID=America/Vancouver:20260805T180000
DTEND;TZID=America/Vancouver:20260805T180000
DTSTAMP:20260424T190157
CREATED:20251024T212509Z
LAST-MODIFIED:20251024T212646Z
UID:10000694-1785952800-1785952800@nisgaahealth.bc.ca
SUMMARY:Nisga’a Language Program - Laxgalts’ap
DESCRIPTION:
URL:https://nisgaahealth.bc.ca/calendar/nisgaa-language-program-laxgaltsap/2026-08-05/
LOCATION:Laxgalts’ap Health Centre
CATEGORIES:Laxgalts'ap,Traditional Wellness,Workshop
ATTACH;FMTTYPE=image/jpeg:https://nisgaahealth.bc.ca/wp-content/uploads/2025/10/8ca8a596-cced-4a36-86b8-bf958ba7b862_Sgihl-banaa-loona.png.jpeg
END:VEVENT
BEGIN:VEVENT
DTSTART;TZID=America/Vancouver:20260812T180000
DTEND;TZID=America/Vancouver:20260812T180000
DTSTAMP:20260424T190157
CREATED:20251024T212509Z
LAST-MODIFIED:20251024T212646Z
UID:10000695-1786557600-1786557600@nisgaahealth.bc.ca
SUMMARY:Nisga’a Language Program - Laxgalts’ap
DESCRIPTION:
URL:https://nisgaahealth.bc.ca/calendar/nisgaa-language-program-laxgaltsap/2026-08-12/
LOCATION:Laxgalts’ap Health Centre
CATEGORIES:Laxgalts'ap,Traditional Wellness,Workshop
ATTACH;FMTTYPE=image/jpeg:https://nisgaahealth.bc.ca/wp-content/uploads/2025/10/8ca8a596-cced-4a36-86b8-bf958ba7b862_Sgihl-banaa-loona.png.jpeg
END:VEVENT
BEGIN:VEVENT
DTSTART;TZID=America/Vancouver:20260819T180000
DTEND;TZID=America/Vancouver:20260819T180000
DTSTAMP:20260424T190157
CREATED:20251024T212509Z
LAST-MODIFIED:20251024T212646Z
UID:10000696-1787162400-1787162400@nisgaahealth.bc.ca
SUMMARY:Nisga’a Language Program - Laxgalts’ap
DESCRIPTION:
URL:https://nisgaahealth.bc.ca/calendar/nisgaa-language-program-laxgaltsap/2026-08-19/
LOCATION:Laxgalts’ap Health Centre
CATEGORIES:Laxgalts'ap,Traditional Wellness,Workshop
ATTACH;FMTTYPE=image/jpeg:https://nisgaahealth.bc.ca/wp-content/uploads/2025/10/8ca8a596-cced-4a36-86b8-bf958ba7b862_Sgihl-banaa-loona.png.jpeg
END:VEVENT
BEGIN:VEVENT
DTSTART;TZID=America/Vancouver:20260826T180000
DTEND;TZID=America/Vancouver:20260826T180000
DTSTAMP:20260424T190157
CREATED:20251024T212509Z
LAST-MODIFIED:20251024T212646Z
UID:10000697-1787767200-1787767200@nisgaahealth.bc.ca
SUMMARY:Nisga’a Language Program - Laxgalts’ap
DESCRIPTION:
URL:https://nisgaahealth.bc.ca/calendar/nisgaa-language-program-laxgaltsap/2026-08-26/
LOCATION:Laxgalts’ap Health Centre
CATEGORIES:Laxgalts'ap,Traditional Wellness,Workshop
ATTACH;FMTTYPE=image/jpeg:https://nisgaahealth.bc.ca/wp-content/uploads/2025/10/8ca8a596-cced-4a36-86b8-bf958ba7b862_Sgihl-banaa-loona.png.jpeg
END:VEVENT
BEGIN:VEVENT
DTSTART;TZID=America/Vancouver:20260902T180000
DTEND;TZID=America/Vancouver:20260902T180000
DTSTAMP:20260424T190157
CREATED:20251024T212509Z
LAST-MODIFIED:20251024T212646Z
UID:10000698-1788372000-1788372000@nisgaahealth.bc.ca
SUMMARY:Nisga’a Language Program - Laxgalts’ap
DESCRIPTION:
URL:https://nisgaahealth.bc.ca/calendar/nisgaa-language-program-laxgaltsap/2026-09-02/
LOCATION:Laxgalts’ap Health Centre
CATEGORIES:Laxgalts'ap,Traditional Wellness,Workshop
ATTACH;FMTTYPE=image/jpeg:https://nisgaahealth.bc.ca/wp-content/uploads/2025/10/8ca8a596-cced-4a36-86b8-bf958ba7b862_Sgihl-banaa-loona.png.jpeg
END:VEVENT
BEGIN:VEVENT
DTSTART;TZID=America/Vancouver:20260909T180000
DTEND;TZID=America/Vancouver:20260909T180000
DTSTAMP:20260424T190157
CREATED:20251024T212509Z
LAST-MODIFIED:20251024T212646Z
UID:10000699-1788976800-1788976800@nisgaahealth.bc.ca
SUMMARY:Nisga’a Language Program - Laxgalts’ap
DESCRIPTION:
URL:https://nisgaahealth.bc.ca/calendar/nisgaa-language-program-laxgaltsap/2026-09-09/
LOCATION:Laxgalts’ap Health Centre
CATEGORIES:Laxgalts'ap,Traditional Wellness,Workshop
ATTACH;FMTTYPE=image/jpeg:https://nisgaahealth.bc.ca/wp-content/uploads/2025/10/8ca8a596-cced-4a36-86b8-bf958ba7b862_Sgihl-banaa-loona.png.jpeg
END:VEVENT
BEGIN:VEVENT
DTSTART;TZID=America/Vancouver:20260916T180000
DTEND;TZID=America/Vancouver:20260916T180000
DTSTAMP:20260424T190157
CREATED:20251024T212509Z
LAST-MODIFIED:20251024T212646Z
UID:10000700-1789581600-1789581600@nisgaahealth.bc.ca
SUMMARY:Nisga’a Language Program - Laxgalts’ap
DESCRIPTION:
URL:https://nisgaahealth.bc.ca/calendar/nisgaa-language-program-laxgaltsap/2026-09-16/
LOCATION:Laxgalts’ap Health Centre
CATEGORIES:Laxgalts'ap,Traditional Wellness,Workshop
ATTACH;FMTTYPE=image/jpeg:https://nisgaahealth.bc.ca/wp-content/uploads/2025/10/8ca8a596-cced-4a36-86b8-bf958ba7b862_Sgihl-banaa-loona.png.jpeg
END:VEVENT
BEGIN:VEVENT
DTSTART;TZID=America/Vancouver:20260923T180000
DTEND;TZID=America/Vancouver:20260923T180000
DTSTAMP:20260424T190157
CREATED:20251024T212509Z
LAST-MODIFIED:20251024T212646Z
UID:10000701-1790186400-1790186400@nisgaahealth.bc.ca
SUMMARY:Nisga’a Language Program - Laxgalts’ap
DESCRIPTION:
URL:https://nisgaahealth.bc.ca/calendar/nisgaa-language-program-laxgaltsap/2026-09-23/
LOCATION:Laxgalts’ap Health Centre
CATEGORIES:Laxgalts'ap,Traditional Wellness,Workshop
ATTACH;FMTTYPE=image/jpeg:https://nisgaahealth.bc.ca/wp-content/uploads/2025/10/8ca8a596-cced-4a36-86b8-bf958ba7b862_Sgihl-banaa-loona.png.jpeg
END:VEVENT
END:VCALENDAR