BEGIN:VCALENDAR
VERSION:2.0
PRODID:-//Nisga&#039;a Valley Health Authority - ECPv6.15.20//NONSGML v1.0//EN
CALSCALE:GREGORIAN
METHOD:PUBLISH
X-ORIGINAL-URL:https://nisgaahealth.bc.ca
X-WR-CALDESC:Events for Nisga&#039;a Valley Health Authority
REFRESH-INTERVAL;VALUE=DURATION:PT1H
X-Robots-Tag:noindex
X-PUBLISHED-TTL:PT1H
BEGIN:VTIMEZONE
TZID:America/Vancouver
BEGIN:DAYLIGHT
TZOFFSETFROM:-0800
TZOFFSETTO:-0700
TZNAME:PDT
DTSTART:20240310T100000
END:DAYLIGHT
BEGIN:STANDARD
TZOFFSETFROM:-0700
TZOFFSETTO:-0800
TZNAME:PST
DTSTART:20241103T090000
END:STANDARD
BEGIN:DAYLIGHT
TZOFFSETFROM:-0800
TZOFFSETTO:-0700
TZNAME:PDT
DTSTART:20250309T100000
END:DAYLIGHT
BEGIN:STANDARD
TZOFFSETFROM:-0700
TZOFFSETTO:-0800
TZNAME:PST
DTSTART:20251102T090000
END:STANDARD
BEGIN:DAYLIGHT
TZOFFSETFROM:-0800
TZOFFSETTO:-0700
TZNAME:PDT
DTSTART:20260308T100000
END:DAYLIGHT
BEGIN:STANDARD
TZOFFSETFROM:-0700
TZOFFSETTO:-0800
TZNAME:PST
DTSTART:20261101T090000
END:STANDARD
BEGIN:DAYLIGHT
TZOFFSETFROM:-0800
TZOFFSETTO:-0700
TZNAME:PDT
DTSTART:20270314T100000
END:DAYLIGHT
BEGIN:STANDARD
TZOFFSETFROM:-0700
TZOFFSETTO:-0800
TZNAME:PST
DTSTART:20271107T090000
END:STANDARD
END:VTIMEZONE
BEGIN:VEVENT
DTSTART;TZID=America/Vancouver:20251106T180000
DTEND;TZID=America/Vancouver:20251106T180000
DTSTAMP:20260419T165937
CREATED:20251024T212114Z
LAST-MODIFIED:20251024T212231Z
UID:10000594-1762452000-1762452000@nisgaahealth.bc.ca
SUMMARY:Nisga’a Language Program - Gingolx
DESCRIPTION:
URL:https://nisgaahealth.bc.ca/calendar/nisgaa-language-program-gingolx/2025-11-06/
LOCATION:Gingolx Health Centre
CATEGORIES:Gingolx,Traditional Wellness,Workshop
ATTACH;FMTTYPE=image/jpeg:https://nisgaahealth.bc.ca/wp-content/uploads/2025/10/8ca8a596-cced-4a36-86b8-bf958ba7b862_Sgihl-banaa-loona.png.jpeg
END:VEVENT
BEGIN:VEVENT
DTSTART;TZID=America/Vancouver:20251113T180000
DTEND;TZID=America/Vancouver:20251113T180000
DTSTAMP:20260419T165937
CREATED:20251024T212114Z
LAST-MODIFIED:20251024T212231Z
UID:10000595-1763056800-1763056800@nisgaahealth.bc.ca
SUMMARY:Nisga’a Language Program - Gingolx
DESCRIPTION:
URL:https://nisgaahealth.bc.ca/calendar/nisgaa-language-program-gingolx/2025-11-13/
LOCATION:Gingolx Health Centre
CATEGORIES:Gingolx,Traditional Wellness,Workshop
ATTACH;FMTTYPE=image/jpeg:https://nisgaahealth.bc.ca/wp-content/uploads/2025/10/8ca8a596-cced-4a36-86b8-bf958ba7b862_Sgihl-banaa-loona.png.jpeg
END:VEVENT
BEGIN:VEVENT
DTSTART;TZID=America/Vancouver:20251117T180000
DTEND;TZID=America/Vancouver:20251117T200000
DTSTAMP:20260419T165937
CREATED:20251024T215225Z
LAST-MODIFIED:20251215T185621Z
UID:10000722-1763402400-1763409600@nisgaahealth.bc.ca
SUMMARY:5 Tools For Everyday Living with Carlos Dominguez - Gingolx
DESCRIPTION:
URL:https://nisgaahealth.bc.ca/calendar/5-tools-for-everyday-living-with-carlos-dominguez-gingolx/2025-11-17/
LOCATION:Gingolx Health Centre
CATEGORIES:Gingolx,Mental Health
ATTACH;FMTTYPE=image/png:https://nisgaahealth.bc.ca/wp-content/uploads/2025/10/5-Tools-Nov-Dec.png
END:VEVENT
BEGIN:VEVENT
DTSTART;TZID=America/Vancouver:20251120T180000
DTEND;TZID=America/Vancouver:20251120T180000
DTSTAMP:20260419T165937
CREATED:20251024T212114Z
LAST-MODIFIED:20251024T212231Z
UID:10000596-1763661600-1763661600@nisgaahealth.bc.ca
SUMMARY:Nisga’a Language Program - Gingolx
DESCRIPTION:
URL:https://nisgaahealth.bc.ca/calendar/nisgaa-language-program-gingolx/2025-11-20/
LOCATION:Gingolx Health Centre
CATEGORIES:Gingolx,Traditional Wellness,Workshop
ATTACH;FMTTYPE=image/jpeg:https://nisgaahealth.bc.ca/wp-content/uploads/2025/10/8ca8a596-cced-4a36-86b8-bf958ba7b862_Sgihl-banaa-loona.png.jpeg
END:VEVENT
BEGIN:VEVENT
DTSTART;TZID=America/Vancouver:20251127T180000
DTEND;TZID=America/Vancouver:20251127T180000
DTSTAMP:20260419T165937
CREATED:20251024T212114Z
LAST-MODIFIED:20251024T212231Z
UID:10000597-1764266400-1764266400@nisgaahealth.bc.ca
SUMMARY:Nisga’a Language Program - Gingolx
DESCRIPTION:
URL:https://nisgaahealth.bc.ca/calendar/nisgaa-language-program-gingolx/2025-11-27/
LOCATION:Gingolx Health Centre
CATEGORIES:Gingolx,Traditional Wellness,Workshop
ATTACH;FMTTYPE=image/jpeg:https://nisgaahealth.bc.ca/wp-content/uploads/2025/10/8ca8a596-cced-4a36-86b8-bf958ba7b862_Sgihl-banaa-loona.png.jpeg
END:VEVENT
BEGIN:VEVENT
DTSTART;TZID=America/Vancouver:20251201T180000
DTEND;TZID=America/Vancouver:20251201T200000
DTSTAMP:20260419T165937
CREATED:20251022T174205Z
LAST-MODIFIED:20251022T174205Z
UID:10000528-1764612000-1764619200@nisgaahealth.bc.ca
SUMMARY:Grief Support Group with Frank Morven - Gingolx
DESCRIPTION:
URL:https://nisgaahealth.bc.ca/calendar/grief-support-group-with-frank-morven-gingolx/2025-12-01/
LOCATION:Gingolx Health Centre
CATEGORIES:Gingolx,Mental Health
ATTACH;FMTTYPE=image/png:https://nisgaahealth.bc.ca/wp-content/uploads/2025/10/Grief-Support-poster.png
END:VEVENT
BEGIN:VEVENT
DTSTART;TZID=America/Vancouver:20251204T180000
DTEND;TZID=America/Vancouver:20251204T180000
DTSTAMP:20260419T165937
CREATED:20251024T212114Z
LAST-MODIFIED:20251024T212231Z
UID:10000598-1764871200-1764871200@nisgaahealth.bc.ca
SUMMARY:Nisga’a Language Program - Gingolx
DESCRIPTION:
URL:https://nisgaahealth.bc.ca/calendar/nisgaa-language-program-gingolx/2025-12-04/
LOCATION:Gingolx Health Centre
CATEGORIES:Gingolx,Traditional Wellness,Workshop
ATTACH;FMTTYPE=image/jpeg:https://nisgaahealth.bc.ca/wp-content/uploads/2025/10/8ca8a596-cced-4a36-86b8-bf958ba7b862_Sgihl-banaa-loona.png.jpeg
END:VEVENT
BEGIN:VEVENT
DTSTART;TZID=America/Vancouver:20251211T180000
DTEND;TZID=America/Vancouver:20251211T180000
DTSTAMP:20260419T165937
CREATED:20251024T212114Z
LAST-MODIFIED:20251024T212231Z
UID:10000599-1765476000-1765476000@nisgaahealth.bc.ca
SUMMARY:Nisga’a Language Program - Gingolx
DESCRIPTION:
URL:https://nisgaahealth.bc.ca/calendar/nisgaa-language-program-gingolx/2025-12-11/
LOCATION:Gingolx Health Centre
CATEGORIES:Gingolx,Traditional Wellness,Workshop
ATTACH;FMTTYPE=image/jpeg:https://nisgaahealth.bc.ca/wp-content/uploads/2025/10/8ca8a596-cced-4a36-86b8-bf958ba7b862_Sgihl-banaa-loona.png.jpeg
END:VEVENT
BEGIN:VEVENT
DTSTART;TZID=America/Vancouver:20251215T180000
DTEND;TZID=America/Vancouver:20251215T200000
DTSTAMP:20260419T165937
CREATED:20251024T215225Z
LAST-MODIFIED:20251215T185621Z
UID:10000723-1765821600-1765828800@nisgaahealth.bc.ca
SUMMARY:5 Tools For Everyday Living with Carlos Dominguez - Gingolx
DESCRIPTION:
URL:https://nisgaahealth.bc.ca/calendar/5-tools-for-everyday-living-with-carlos-dominguez-gingolx/2025-12-15/
LOCATION:Gingolx Health Centre
CATEGORIES:Gingolx,Mental Health
ATTACH;FMTTYPE=image/png:https://nisgaahealth.bc.ca/wp-content/uploads/2025/10/5-Tools-Nov-Dec.png
END:VEVENT
BEGIN:VEVENT
DTSTART;TZID=America/Vancouver:20251218T180000
DTEND;TZID=America/Vancouver:20251218T180000
DTSTAMP:20260419T165937
CREATED:20251024T212114Z
LAST-MODIFIED:20251024T212231Z
UID:10000600-1766080800-1766080800@nisgaahealth.bc.ca
SUMMARY:Nisga’a Language Program - Gingolx
DESCRIPTION:
URL:https://nisgaahealth.bc.ca/calendar/nisgaa-language-program-gingolx/2025-12-18/
LOCATION:Gingolx Health Centre
CATEGORIES:Gingolx,Traditional Wellness,Workshop
ATTACH;FMTTYPE=image/jpeg:https://nisgaahealth.bc.ca/wp-content/uploads/2025/10/8ca8a596-cced-4a36-86b8-bf958ba7b862_Sgihl-banaa-loona.png.jpeg
END:VEVENT
BEGIN:VEVENT
DTSTART;TZID=America/Vancouver:20251225T180000
DTEND;TZID=America/Vancouver:20251225T180000
DTSTAMP:20260419T165937
CREATED:20251024T212114Z
LAST-MODIFIED:20251024T212231Z
UID:10000601-1766685600-1766685600@nisgaahealth.bc.ca
SUMMARY:Nisga’a Language Program - Gingolx
DESCRIPTION:
URL:https://nisgaahealth.bc.ca/calendar/nisgaa-language-program-gingolx/2025-12-25/
LOCATION:Gingolx Health Centre
CATEGORIES:Gingolx,Traditional Wellness,Workshop
ATTACH;FMTTYPE=image/jpeg:https://nisgaahealth.bc.ca/wp-content/uploads/2025/10/8ca8a596-cced-4a36-86b8-bf958ba7b862_Sgihl-banaa-loona.png.jpeg
END:VEVENT
BEGIN:VEVENT
DTSTART;TZID=America/Vancouver:20260101T180000
DTEND;TZID=America/Vancouver:20260101T180000
DTSTAMP:20260419T165937
CREATED:20251024T212114Z
LAST-MODIFIED:20251024T212231Z
UID:10000602-1767290400-1767290400@nisgaahealth.bc.ca
SUMMARY:Nisga’a Language Program - Gingolx
DESCRIPTION:
URL:https://nisgaahealth.bc.ca/calendar/nisgaa-language-program-gingolx/2026-01-01/
LOCATION:Gingolx Health Centre
CATEGORIES:Gingolx,Traditional Wellness,Workshop
ATTACH;FMTTYPE=image/jpeg:https://nisgaahealth.bc.ca/wp-content/uploads/2025/10/8ca8a596-cced-4a36-86b8-bf958ba7b862_Sgihl-banaa-loona.png.jpeg
END:VEVENT
BEGIN:VEVENT
DTSTART;TZID=America/Vancouver:20260108T180000
DTEND;TZID=America/Vancouver:20260108T180000
DTSTAMP:20260419T165937
CREATED:20251024T212114Z
LAST-MODIFIED:20251024T212231Z
UID:10000603-1767895200-1767895200@nisgaahealth.bc.ca
SUMMARY:Nisga’a Language Program - Gingolx
DESCRIPTION:
URL:https://nisgaahealth.bc.ca/calendar/nisgaa-language-program-gingolx/2026-01-08/
LOCATION:Gingolx Health Centre
CATEGORIES:Gingolx,Traditional Wellness,Workshop
ATTACH;FMTTYPE=image/jpeg:https://nisgaahealth.bc.ca/wp-content/uploads/2025/10/8ca8a596-cced-4a36-86b8-bf958ba7b862_Sgihl-banaa-loona.png.jpeg
END:VEVENT
BEGIN:VEVENT
DTSTART;TZID=America/Vancouver:20260115T180000
DTEND;TZID=America/Vancouver:20260115T180000
DTSTAMP:20260419T165937
CREATED:20251024T212114Z
LAST-MODIFIED:20251024T212231Z
UID:10000604-1768500000-1768500000@nisgaahealth.bc.ca
SUMMARY:Nisga’a Language Program - Gingolx
DESCRIPTION:
URL:https://nisgaahealth.bc.ca/calendar/nisgaa-language-program-gingolx/2026-01-15/
LOCATION:Gingolx Health Centre
CATEGORIES:Gingolx,Traditional Wellness,Workshop
ATTACH;FMTTYPE=image/jpeg:https://nisgaahealth.bc.ca/wp-content/uploads/2025/10/8ca8a596-cced-4a36-86b8-bf958ba7b862_Sgihl-banaa-loona.png.jpeg
END:VEVENT
BEGIN:VEVENT
DTSTART;TZID=America/Vancouver:20260122T180000
DTEND;TZID=America/Vancouver:20260122T180000
DTSTAMP:20260419T165937
CREATED:20251024T212114Z
LAST-MODIFIED:20251024T212231Z
UID:10000605-1769104800-1769104800@nisgaahealth.bc.ca
SUMMARY:Nisga’a Language Program - Gingolx
DESCRIPTION:
URL:https://nisgaahealth.bc.ca/calendar/nisgaa-language-program-gingolx/2026-01-22/
LOCATION:Gingolx Health Centre
CATEGORIES:Gingolx,Traditional Wellness,Workshop
ATTACH;FMTTYPE=image/jpeg:https://nisgaahealth.bc.ca/wp-content/uploads/2025/10/8ca8a596-cced-4a36-86b8-bf958ba7b862_Sgihl-banaa-loona.png.jpeg
END:VEVENT
BEGIN:VEVENT
DTSTART;TZID=America/Vancouver:20260129T180000
DTEND;TZID=America/Vancouver:20260129T180000
DTSTAMP:20260419T165937
CREATED:20251024T212114Z
LAST-MODIFIED:20251024T212231Z
UID:10000606-1769709600-1769709600@nisgaahealth.bc.ca
SUMMARY:Nisga’a Language Program - Gingolx
DESCRIPTION:
URL:https://nisgaahealth.bc.ca/calendar/nisgaa-language-program-gingolx/2026-01-29/
LOCATION:Gingolx Health Centre
CATEGORIES:Gingolx,Traditional Wellness,Workshop
ATTACH;FMTTYPE=image/jpeg:https://nisgaahealth.bc.ca/wp-content/uploads/2025/10/8ca8a596-cced-4a36-86b8-bf958ba7b862_Sgihl-banaa-loona.png.jpeg
END:VEVENT
BEGIN:VEVENT
DTSTART;TZID=America/Vancouver:20260203T140000
DTEND;TZID=America/Vancouver:20260203T170000
DTSTAMP:20260419T165937
CREATED:20260128T223609Z
LAST-MODIFIED:20260128T223609Z
UID:10001935-1770127200-1770138000@nisgaahealth.bc.ca
SUMMARY:Regalia Making – Gingolx
DESCRIPTION:
URL:https://nisgaahealth.bc.ca/calendar/regalia-making-gingolx/2026-02-03/
LOCATION:Gingolx Health Centre
CATEGORIES:Gingolx,Traditional Wellness
END:VEVENT
BEGIN:VEVENT
DTSTART;TZID=America/Vancouver:20260203T180000
DTEND;TZID=America/Vancouver:20260203T200000
DTSTAMP:20260419T165937
CREATED:20260128T220204Z
LAST-MODIFIED:20260128T221344Z
UID:10001305-1770141600-1770148800@nisgaahealth.bc.ca
SUMMARY:Nisga’a Language Class - Gingolx
DESCRIPTION:
URL:https://nisgaahealth.bc.ca/calendar/nisgaa-language-class/2026-02-03/
LOCATION:Gingolx Health Centre
CATEGORIES:Gingolx,Traditional Wellness
END:VEVENT
BEGIN:VEVENT
DTSTART;TZID=America/Vancouver:20260203T180000
DTEND;TZID=America/Vancouver:20260203T200000
DTSTAMP:20260419T165937
CREATED:20260128T223805Z
LAST-MODIFIED:20260128T223805Z
UID:10001940-1770141600-1770148800@nisgaahealth.bc.ca
SUMMARY:Regalia Making – Gingolx
DESCRIPTION:
URL:https://nisgaahealth.bc.ca/calendar/regalia-making-gingolx-2/2026-02-03/
LOCATION:Gingolx Health Centre
CATEGORIES:Gingolx,Traditional Wellness
END:VEVENT
BEGIN:VEVENT
DTSTART;TZID=America/Vancouver:20260204T140000
DTEND;TZID=America/Vancouver:20260204T170000
DTSTAMP:20260419T165937
CREATED:20260128T223609Z
LAST-MODIFIED:20260128T223609Z
UID:10001936-1770213600-1770224400@nisgaahealth.bc.ca
SUMMARY:Regalia Making – Gingolx
DESCRIPTION:
URL:https://nisgaahealth.bc.ca/calendar/regalia-making-gingolx/2026-02-04/
LOCATION:Gingolx Health Centre
CATEGORIES:Gingolx,Traditional Wellness
END:VEVENT
BEGIN:VEVENT
DTSTART;TZID=America/Vancouver:20260204T180000
DTEND;TZID=America/Vancouver:20260204T200000
DTSTAMP:20260419T165937
CREATED:20260128T223805Z
LAST-MODIFIED:20260128T223805Z
UID:10001941-1770228000-1770235200@nisgaahealth.bc.ca
SUMMARY:Regalia Making – Gingolx
DESCRIPTION:
URL:https://nisgaahealth.bc.ca/calendar/regalia-making-gingolx-2/2026-02-04/
LOCATION:Gingolx Health Centre
CATEGORIES:Gingolx,Traditional Wellness
END:VEVENT
BEGIN:VEVENT
DTSTART;TZID=America/Vancouver:20260205T140000
DTEND;TZID=America/Vancouver:20260205T170000
DTSTAMP:20260419T165937
CREATED:20260128T223609Z
LAST-MODIFIED:20260128T223609Z
UID:10001937-1770300000-1770310800@nisgaahealth.bc.ca
SUMMARY:Regalia Making – Gingolx
DESCRIPTION:
URL:https://nisgaahealth.bc.ca/calendar/regalia-making-gingolx/2026-02-05/
LOCATION:Gingolx Health Centre
CATEGORIES:Gingolx,Traditional Wellness
END:VEVENT
BEGIN:VEVENT
DTSTART;TZID=America/Vancouver:20260205T180000
DTEND;TZID=America/Vancouver:20260205T180000
DTSTAMP:20260419T165937
CREATED:20251024T212114Z
LAST-MODIFIED:20251024T212231Z
UID:10000607-1770314400-1770314400@nisgaahealth.bc.ca
SUMMARY:Nisga’a Language Program - Gingolx
DESCRIPTION:
URL:https://nisgaahealth.bc.ca/calendar/nisgaa-language-program-gingolx/2026-02-05/
LOCATION:Gingolx Health Centre
CATEGORIES:Gingolx,Traditional Wellness,Workshop
ATTACH;FMTTYPE=image/jpeg:https://nisgaahealth.bc.ca/wp-content/uploads/2025/10/8ca8a596-cced-4a36-86b8-bf958ba7b862_Sgihl-banaa-loona.png.jpeg
END:VEVENT
BEGIN:VEVENT
DTSTART;TZID=America/Vancouver:20260205T180000
DTEND;TZID=America/Vancouver:20260205T200000
DTSTAMP:20260419T165937
CREATED:20260128T223805Z
LAST-MODIFIED:20260128T223805Z
UID:10001942-1770314400-1770321600@nisgaahealth.bc.ca
SUMMARY:Regalia Making – Gingolx
DESCRIPTION:
URL:https://nisgaahealth.bc.ca/calendar/regalia-making-gingolx-2/2026-02-05/
LOCATION:Gingolx Health Centre
CATEGORIES:Gingolx,Traditional Wellness
END:VEVENT
BEGIN:VEVENT
DTSTART;TZID=America/Vancouver:20260205T180000
DTEND;TZID=America/Vancouver:20260205T200000
DTSTAMP:20260419T165937
CREATED:20260128T224158Z
LAST-MODIFIED:20260128T224158Z
UID:10001946-1770314400-1770321600@nisgaahealth.bc.ca
SUMMARY:Drum Making - Gingolx
DESCRIPTION:
URL:https://nisgaahealth.bc.ca/calendar/drum-making-gingolx/
LOCATION:Gingolx Health Centre
CATEGORIES:Gingolx,Traditional Wellness
END:VEVENT
BEGIN:VEVENT
DTSTART;TZID=America/Vancouver:20260206T140000
DTEND;TZID=America/Vancouver:20260206T170000
DTSTAMP:20260419T165937
CREATED:20260128T223609Z
LAST-MODIFIED:20260128T223609Z
UID:10001938-1770386400-1770397200@nisgaahealth.bc.ca
SUMMARY:Regalia Making – Gingolx
DESCRIPTION:
URL:https://nisgaahealth.bc.ca/calendar/regalia-making-gingolx/2026-02-06/
LOCATION:Gingolx Health Centre
CATEGORIES:Gingolx,Traditional Wellness
END:VEVENT
BEGIN:VEVENT
DTSTART;TZID=America/Vancouver:20260206T180000
DTEND;TZID=America/Vancouver:20260206T200000
DTSTAMP:20260419T165937
CREATED:20260128T223805Z
LAST-MODIFIED:20260128T223805Z
UID:10001943-1770400800-1770408000@nisgaahealth.bc.ca
SUMMARY:Regalia Making – Gingolx
DESCRIPTION:
URL:https://nisgaahealth.bc.ca/calendar/regalia-making-gingolx-2/2026-02-06/
LOCATION:Gingolx Health Centre
CATEGORIES:Gingolx,Traditional Wellness
END:VEVENT
BEGIN:VEVENT
DTSTART;TZID=America/Vancouver:20260207T140000
DTEND;TZID=America/Vancouver:20260207T170000
DTSTAMP:20260419T165937
CREATED:20260128T223609Z
LAST-MODIFIED:20260128T223609Z
UID:10001939-1770472800-1770483600@nisgaahealth.bc.ca
SUMMARY:Regalia Making – Gingolx
DESCRIPTION:
URL:https://nisgaahealth.bc.ca/calendar/regalia-making-gingolx/2026-02-07/
LOCATION:Gingolx Health Centre
CATEGORIES:Gingolx,Traditional Wellness
END:VEVENT
BEGIN:VEVENT
DTSTART;TZID=America/Vancouver:20260207T180000
DTEND;TZID=America/Vancouver:20260207T200000
DTSTAMP:20260419T165937
CREATED:20260128T223805Z
LAST-MODIFIED:20260128T223805Z
UID:10001944-1770487200-1770494400@nisgaahealth.bc.ca
SUMMARY:Regalia Making – Gingolx
DESCRIPTION:
URL:https://nisgaahealth.bc.ca/calendar/regalia-making-gingolx-2/2026-02-07/
LOCATION:Gingolx Health Centre
CATEGORIES:Gingolx,Traditional Wellness
END:VEVENT
BEGIN:VEVENT
DTSTART;TZID=America/Vancouver:20260210T180000
DTEND;TZID=America/Vancouver:20260210T200000
DTSTAMP:20260419T165938
CREATED:20260128T220204Z
LAST-MODIFIED:20260128T221344Z
UID:10001306-1770746400-1770753600@nisgaahealth.bc.ca
SUMMARY:Nisga’a Language Class - Gingolx
DESCRIPTION:
URL:https://nisgaahealth.bc.ca/calendar/nisgaa-language-class/2026-02-10/
LOCATION:Gingolx Health Centre
CATEGORIES:Gingolx,Traditional Wellness
END:VEVENT
END:VCALENDAR